BEGIN:VCALENDAR
PRODID:-//kirchenweb.ch gmbh//veranstaltungsausgabe v2.0//DE
VERSION:2.0
METHOD:PUBLISH
BEGIN:VEVENT
DTSTART:20251104T130000Z
DTEND:20251104T163000Z
LOCATION:Stefanskirche Foyer\, \,
TRANSP:OPAQUE
SEQUENCE:0
UID:28340-veranstaltung@stefanskirche.ch
DTSTAMP:20250106T151050Z
DESCRIPTION:Kontakt: Fredy Flückiger Tel. 044 322 45 04\n\nWeitere Infos:
  https://www.stefanskirche.ch/veranstaltung/28340
SUMMARY:Stick- und Nähgruppe
PRIORITY:5
X-MICROSOFT-CDO-IMPORTANCE:1
CLASS:PUBLIC
END:VEVENT
END:VCALENDAR
