BEGIN:VCALENDAR
PRODID:-//kirchenweb.ch gmbh//veranstaltungsausgabe v2.0//DE
VERSION:2.0
METHOD:PUBLISH
BEGIN:VEVENT
DTSTART:20251109T090000Z
DTEND:20251109T103000Z
LOCATION:Stefanskirche (Jugiraum)\, Altwiesenstr. 170\, 8051 Zürich
TRANSP:OPAQUE
SEQUENCE:0
UID:29312-veranstaltung@stefanskirche.ch
DTSTAMP:20250916T132725Z
DESCRIPTION:Kontakt: Deborah Andrist Tel. 078 866 24 54\n\nWeitere Infos:
  https://www.stefanskirche.ch/veranstaltung/29312
SUMMARY:TeensConnect
PRIORITY:5
X-MICROSOFT-CDO-IMPORTANCE:1
CLASS:PUBLIC
END:VEVENT
END:VCALENDAR
