BEGIN:VCALENDAR
PRODID:-//kirchenweb.ch gmbh//veranstaltungsausgabe v2.0//DE
VERSION:2.0
METHOD:PUBLISH
BEGIN:VEVENT
DTSTART:20260517T170000Z
DTEND:20260517T180000Z
LOCATION:Stefanskirche\, Altwiesenstr. 170\, 8051 Zürich
TRANSP:OPAQUE
SEQUENCE:0
UID:29341-veranstaltung@stefanskirche.ch
DTSTAMP:20250922T231755Z
DESCRIPTION:Gottesdienst für Jugendliche und junge Erwachsene mit Band\,
  spannendem Input und gemütlichem Zusammensein inkl. Snacks danach.\n
 \ntimeout\n\nKontakt: Jan Gubser\n\nWeitere Infos:
  https://www.stefanskirche.ch/veranstaltung/29341
SUMMARY:TimeOut
PRIORITY:5
X-MICROSOFT-CDO-IMPORTANCE:1
CLASS:PUBLIC
END:VEVENT
END:VCALENDAR
