BEGIN:VCALENDAR
PRODID:-//kirchenweb.ch gmbh//veranstaltungsausgabe v2.0//DE
VERSION:2.0
METHOD:PUBLISH
BEGIN:VEVENT
DTSTART:20260506T074500Z
DTEND:20260506T084500Z
LOCATION:Stefanshof (Ecke Luchswiesenstr/Altwiesenstr.)\, Altwiesenstr.
  181\, 8051 Zürich
TRANSP:OPAQUE
SEQUENCE:0
UID:29436-veranstaltung@stefanskirche.ch
DTSTAMP:20250925T100959Z
DESCRIPTION:Für Kinder und ihre Begleitpersonen.\n
 \nhttps://www.stefanskirche.ch/elternkindsingen erfahren sie mehr über
  das Eltern-Kind-Singen\n\nKontakt: Esther Weber\, Tel. 043 536 77 45\n
 \nWeitere Infos: https://www.stefanskirche.ch/veranstaltung/29436
SUMMARY:Eltern-Kind Singen
PRIORITY:5
X-MICROSOFT-CDO-IMPORTANCE:1
CLASS:PUBLIC
END:VEVENT
END:VCALENDAR
