BEGIN:VCALENDAR
PRODID:-//kirchenweb.ch gmbh//veranstaltungsausgabe v2.0//DE
VERSION:2.0
METHOD:PUBLISH
BEGIN:VEVENT
DTSTART:20260506T083000Z
DTEND:20260506T093000Z
LOCATION:Stefanshof (Ecke Luchswiesenstr/Altwiesenstr.)\, Altwiesenstr.
  181\, 8051 Zürich
TRANSP:OPAQUE
SEQUENCE:0
UID:29486-veranstaltung@stefanskirche.ch
DTSTAMP:20250925T101317Z
DESCRIPTION:Kontakt: Esther Weber\, Tel. 043 536 77 45\n\nWeitere Infos:
  https://www.stefanskirche.ch/veranstaltung/29486
SUMMARY:Eltern-Kind Singen
PRIORITY:5
X-MICROSOFT-CDO-IMPORTANCE:1
CLASS:PUBLIC
END:VEVENT
END:VCALENDAR
