BEGIN:VCALENDAR
PRODID:-//kirchenweb.ch gmbh//veranstaltungsausgabe v2.0//DE
VERSION:2.0
METHOD:PUBLISH
BEGIN:VEVENT
DTSTART:20261023T163000Z
DTEND:20261023T200000Z
LOCATION:Stefanskirche (Saal)\, Altwiesenstr. 170\, 8051 Zürich
TRANSP:OPAQUE
SEQUENCE:0
UID:29513-veranstaltung@stefanskirche.ch
DTSTAMP:20250926T160830Z
DESCRIPTION:Kontakt: Roger Föhn Tel. 044 322 50 06\n\nWeitere Infos:
  https://www.stefanskirche.ch/veranstaltung/29513
SUMMARY:Pilzessen
PRIORITY:5
X-MICROSOFT-CDO-IMPORTANCE:1
CLASS:PUBLIC
END:VEVENT
END:VCALENDAR
