BEGIN:VCALENDAR
PRODID:-//kirchenweb.ch gmbh//veranstaltungsausgabe v2.0//DE
VERSION:2.0
METHOD:PUBLISH
BEGIN:VEVENT
DTSTART:20251104T080000Z
DTEND:20251104T100000Z
LOCATION:Gemeinschaftsraum der BGZ\, Luchswiesenstrasse 23\, 8051 Zürich
TRANSP:OPAQUE
SEQUENCE:0
UID:29557-veranstaltung@stefanskirche.ch
DTSTAMP:20251020T071230Z
DESCRIPTION:Kontakt: Rahel Erb\nBetriebsleitung\n+41 78 421 44 74
 \ninfo@villayoyozh.ch\nDi\,Mi\,Do Nachmittags\n\n \n\nVilla YoYo Zürich
  Hirzenbach\nLuchswiesenstrasse 23\, 8051 Zürich\nPostanschrift:
 \nReformierte Kirche Zürich Hirzenbach\nAltwiesenstrasse 170\, 8051
  Zürich\n\nwww.villayoyozh.ch\nwww.stefanskirche.ch\n\n\nWeitere Infos:
  https://www.stefanskirche.ch/veranstaltung/29557
SUMMARY:Frauenoase
PRIORITY:5
X-MICROSOFT-CDO-IMPORTANCE:1
CLASS:PUBLIC
END:VEVENT
END:VCALENDAR
