BEGIN:VCALENDAR
PRODID:-//kirchenweb.ch gmbh//veranstaltungsausgabe v2.0//DE
VERSION:2.0
METHOD:PUBLISH
BEGIN:VEVENT
DTSTART:20261119T130000Z
DTEND:20261119T150000Z
LOCATION:Stefanskirche\, Altwiesenstr. 170\, 8051 Zürich
TRANSP:OPAQUE
SEQUENCE:0
UID:29662-veranstaltung@stefanskirche.ch
DTSTAMP:20251105T230950Z
DESCRIPTION:Kontakt: Fredy Flückiger Tel. 044 322 45 04\n\nWeitere Infos:
  https://www.stefanskirche.ch/veranstaltung/29662
SUMMARY:Seniorennachmittag
PRIORITY:5
X-MICROSOFT-CDO-IMPORTANCE:1
CLASS:PUBLIC
END:VEVENT
END:VCALENDAR
