BEGIN:VCALENDAR
PRODID:-//kirchenweb.ch gmbh//veranstaltungsausgabe v2.0//DE
VERSION:2.0
METHOD:PUBLISH
BEGIN:VEVENT
DTSTART:20261124T110000Z
DTEND:20261124T123000Z
LOCATION:Stefanskirche\, Altwiesenstr. 170\, 8051 Zürich
TRANSP:OPAQUE
SEQUENCE:0
UID:29837-veranstaltung@stefanskirche.ch
DTSTAMP:20251118T155420Z
DESCRIPTION:Kontakt: Fredy Flückiger Tel. 044 322 45 04\n\nWeitere Infos:
  https://www.stefanskirche.ch/veranstaltung/29837
SUMMARY:Mittagstisch
PRIORITY:5
X-MICROSOFT-CDO-IMPORTANCE:1
CLASS:PUBLIC
END:VEVENT
END:VCALENDAR
