BEGIN:VCALENDAR
PRODID:-//kirchenweb.ch gmbh//veranstaltungsausgabe v2.0//DE
VERSION:2.0
METHOD:PUBLISH
BEGIN:VEVENT
DTSTART:20260901T120000Z
DTEND:20260901T153000Z
LOCATION:Stefanskirche\, Altwiesenstr. 170\, 8051 Zürich
TRANSP:OPAQUE
SEQUENCE:0
UID:29884-veranstaltung@stefanskirche.ch
DTSTAMP:20251120T170849Z
DESCRIPTION:Kontakt: Fredy Flückiger Tel. 044 322 45 04\n\nWeitere Infos:
  https://www.stefanskirche.ch/veranstaltung/29884
SUMMARY:Strick-und Nähgruppe
PRIORITY:5
X-MICROSOFT-CDO-IMPORTANCE:1
CLASS:PUBLIC
END:VEVENT
END:VCALENDAR
