BEGIN:VCALENDAR
PRODID:-//kirchenweb.ch gmbh//veranstaltungsausgabe v2.0//DE
VERSION:2.0
METHOD:PUBLISH
BEGIN:VEVENT
DTSTART:20260628T093000Z
DTEND:20260628T110000Z
LOCATION:Stefanskirche\, Altwiesenstr. 170\, 8051 Zürich
TRANSP:OPAQUE
SEQUENCE:0
UID:30048-veranstaltung@stefanskirche.ch
DTSTAMP:20251217T151840Z
DESCRIPTION:Mehr Infos findest du
  https://www.stefanskirche.ch/apres-chile!\n\nKontakt: Benjamin Bucher
  Tel. 079 811 74 75\n\nWeitere Infos:
  https://www.stefanskirche.ch/veranstaltung/30048
SUMMARY:Après-Chile nach dem Gottesdienst
PRIORITY:5
X-MICROSOFT-CDO-IMPORTANCE:1
CLASS:PUBLIC
END:VEVENT
END:VCALENDAR
