BEGIN:VCALENDAR
PRODID:-//kirchenweb.ch gmbh//veranstaltungsausgabe v2.0//DE
VERSION:2.0
METHOD:PUBLISH
BEGIN:VEVENT
DTSTART:20261025T090000Z
DTEND:20261025T110000Z
LOCATION:Stefanskirche\, Altwiesenstrasse 170\, 8051 Zürich
TRANSP:OPAQUE
SEQUENCE:0
UID:30111-veranstaltung@stefanskirche.ch
DTSTAMP:20251222T151656Z
DESCRIPTION:Der Gottesdienst ist wichtiger Teil unseres Gemeindelebens. Er
  ist generationenübergreiffend und spricht sowohl jüngere als auch
  ältere Menschen an. Die Predigtreihe orientiert sich an unserem
  https://www.stefanskirche.ch/bericht/1238\n\nMit Pfarrer Franco Sorbara
  und 3. Klasse-Unti\n\nEs gibt eine Kinderhüte im Stefanshof.
  https://www.stefanskirche.ch/kinderhuetedienst erfahren Sie mehr.\n
 \nGenaueres zu unseren Gottesdiensten erfahren Sie
  https://www.stefanskirche.ch/gemeindegottesdienst\n\nKontakt: Pfarrer
  Franco Sorbara-Frech Tel. 044 321 24 22\n\nWeitere Infos:
  https://www.stefanskirche.ch/veranstaltung/30111
SUMMARY:Gottesdienst für Gross und Chli
PRIORITY:5
X-MICROSOFT-CDO-IMPORTANCE:1
CLASS:PUBLIC
END:VEVENT
END:VCALENDAR
