BEGIN:VCALENDAR
PRODID:-//kirchenweb.ch gmbh//veranstaltungsausgabe v2.0//DE
VERSION:2.0
METHOD:PUBLISH
BEGIN:VEVENT
DTSTART:20261225T090000Z
DTEND:20261225T110000Z
LOCATION:Stefanskirche\, Altwiesenstrasse 170\, 8051 Zürich
TRANSP:OPAQUE
SEQUENCE:0
UID:30118-veranstaltung@stefanskirche.ch
DTSTAMP:20251222T155549Z
DESCRIPTION:Der Gottesdienst ist Mittelpunkt unseres Gemeindelebens. Er
  ist generationenübergreiffend und spricht sowohl jüngere als auch
  ältere Menschen an. Die Predigtreihe orientiert sich an unserem
  https://www.stefanskirche.ch/bericht/750\n\nMit Pfarrer Franco
  Sorbara-Frech\n\nEs findet keine Kinderhüte im Stefanshof statt. \n
 \nAnschliessend Kirchenkaffee im Saal und im Foyer.\n\nGenaueres zu
  unseren Gottesdiensten erfahren Sie
  https://www.stefanskirche.ch/gemeindegottesdienst\n\nKontakt: Pfarrer
  Franco Sorbara-Frech Tel. 044 321 24 22\n\nWeitere Infos:
  https://www.stefanskirche.ch/veranstaltung/30118
SUMMARY:Weihnachten
PRIORITY:5
X-MICROSOFT-CDO-IMPORTANCE:1
CLASS:PUBLIC
END:VEVENT
END:VCALENDAR
