BEGIN:VCALENDAR
PRODID:-//kirchenweb.ch gmbh//veranstaltungsausgabe v2.0//DE
VERSION:2.0
METHOD:PUBLISH
BEGIN:VEVENT
DTSTART:20260626T180000Z
DTEND:20260626T193000Z
LOCATION:Stefanskirche\, Altwiesenstr. 170\, 8051 Zürich
TRANSP:OPAQUE
SEQUENCE:0
UID:30121-veranstaltung@stefanskirche.ch
DTSTAMP:20251222T161240Z
DESCRIPTION:auftanken begegnen aufbrechen\n\nmit Band und modernen Liedern
 \n\nAnschliessend Apéro\n\nKontakt: Pfr. Franco Sorbara Tel. 044 321 24
  22\n\nWeitere Infos: https://www.stefanskirche.ch/veranstaltung/30121
SUMMARY:freitagsWorship
PRIORITY:5
X-MICROSOFT-CDO-IMPORTANCE:1
CLASS:PUBLIC
END:VEVENT
END:VCALENDAR
