BEGIN:VCALENDAR
PRODID:-//kirchenweb.ch gmbh//veranstaltungsausgabe v2.0//DE
VERSION:2.0
METHOD:PUBLISH
BEGIN:VEVENT
DTSTART:20260514T050000Z
DTEND:20260514T052000Z
LOCATION:Stefanskirche\, Altwiesenstr. 170\, 8051 Zürich
TRANSP:OPAQUE
SEQUENCE:0
UID:30142-veranstaltung@stefanskirche.ch
DTSTAMP:20251223T102536Z
DESCRIPTION:Jeden Donnerstagmorgen von 7.00-7.20h in der Stefanskirche.
  Wir beginnen den Tag mit einem gemeinsamen Gebet im ruhigen Rahmen vor
  Gott und mit Blick fürs Quartier. Herzliche Einladung an alle!\n
 \nKontakt: Benjamin Manig\n\nWeitere Infos:
  https://www.stefanskirche.ch/veranstaltung/30142
SUMMARY:Morgengebet
PRIORITY:5
X-MICROSOFT-CDO-IMPORTANCE:1
CLASS:PUBLIC
END:VEVENT
END:VCALENDAR
