BEGIN:VCALENDAR
PRODID:-//kirchenweb.ch gmbh//veranstaltungsausgabe v2.0//DE
VERSION:2.0
METHOD:PUBLISH
BEGIN:VEVENT
DTSTART:20260926T120000Z
DTEND:20260926T150000Z
LOCATION:Schulhaus Stettbach\, \,
TRANSP:OPAQUE
SEQUENCE:0
UID:30180-veranstaltung@stefanskirche.ch
DTSTAMP:20251230T184238Z
DESCRIPTION:Was\nWir sind oft im Wald oder draussen zum spielen\,
  basteln\, Seilbahnen bauen\, austoben\, kochen\, bräteln und Spass
  haben.\nWenn du auch Abenteuer in der Gruppe erleben willst\, komm in die
  Cevi.\n\nKontakt: Nadine Weber\nnadine.weber@stefanskirche.ch\n079 822 25
  51\n\nWeitere Infos: https://www.stefanskirche.ch/veranstaltung/30180
SUMMARY:Cevi Jungscharnachmittag
PRIORITY:5
X-MICROSOFT-CDO-IMPORTANCE:1
CLASS:PUBLIC
END:VEVENT
END:VCALENDAR
