BEGIN:VCALENDAR
PRODID:-//kirchenweb.ch gmbh//veranstaltungsausgabe v2.0//DE
VERSION:2.0
METHOD:PUBLISH
BEGIN:VEVENT
DTSTART:20261114T130000Z
DTEND:20261114T160000Z
LOCATION:Schulhaus Stettbach\, \,
TRANSP:OPAQUE
SEQUENCE:0
UID:30191-veranstaltung@stefanskirche.ch
DTSTAMP:20251230T184547Z
DESCRIPTION:Wir sind oft im Wald oder draussen zum spielen\, basteln\,
  Seilbahnen bauen\, austoben\, kochen\, bräteln und Spass haben.\nWenn du
  auch Abenteuer in der Gruppe erleben willst\, komm in die Cevi.\n
 \nKontakt: Nadine Weber\nnadine.weber@stefanskirche.ch\n079 822 25 51\n
 \nWeitere Infos: https://www.stefanskirche.ch/veranstaltung/30191
SUMMARY:Cevi Jungscharnachmittag mit Fröschli
PRIORITY:5
X-MICROSOFT-CDO-IMPORTANCE:1
CLASS:PUBLIC
END:VEVENT
END:VCALENDAR
