BEGIN:VCALENDAR
PRODID:-//kirchenweb.ch gmbh//veranstaltungsausgabe v2.0//DE
VERSION:2.0
METHOD:PUBLISH
BEGIN:VEVENT
DTSTART;VALUE=DATE:20260523
DTEND;VALUE=DATE:20260524
LOCATION:Stefanskirche\, Altwiesenstr. 170\, 8051 Zürich
TRANSP:OPAQUE
SEQUENCE:0
UID:30194-veranstaltung@stefanskirche.ch
DTSTAMP:20251230T183118Z
DESCRIPTION:Als Abteilung erleben wir spannendes Programm und tauchen in
  eine Geschichte ein während unseres Pfingstlagers. Die Übernachtung
  finden im Zelt statt. Am Abend geniessen wir das Lagerfeuer\, erleben
  durch den Tag viel Programm: Sport\, verschiedene Aktivitäten\, Spass\,
  Basteln\, diverse Cevikunde üben und vertiefen und was alles noch dazu
  gehört.\n\nKontakt: nadine weber\n\nWeitere Infos:
  https://www.stefanskirche.ch/veranstaltung/30194
SUMMARY:Cevi Pfingstlager
PRIORITY:5
X-MICROSOFT-CDO-IMPORTANCE:1
CLASS:PUBLIC
END:VEVENT
END:VCALENDAR
