BEGIN:VCALENDAR
PRODID:-//kirchenweb.ch gmbh//veranstaltungsausgabe v2.0//DE
VERSION:2.0
METHOD:PUBLISH
BEGIN:VEVENT
DTSTART;VALUE=DATE:20260712
DTEND;VALUE=DATE:20260713
LOCATION:Stefanskirche\, Altwiesenstr. 170\, 8051 Zürich
TRANSP:OPAQUE
SEQUENCE:0
UID:30202-veranstaltung@stefanskirche.ch
DTSTAMP:20251230T183707Z
DESCRIPTION:Dieses Jahr erleben wir ein Sommerlager voller Abenteuer
  zusammen mit einer anderen Abteilung. Wir durften letztes Jahr mit ihnen
  den Lagerplatz teilen im Daraja und so haben sich neue Freundschaften
  unter uns Abteilungen geschlossen. Auch hier darf Spass und Freude nicht
  fehlen. Neben Sport und Abenteuer\, Kartenkunde\, Knöpfen und 1.Hilfe.
  Bei schönem Wetter geniessen wir die tolle Bergluft beim Wandern.\n
 \nKontakt: nadine weber\n\nWeitere Infos:
  https://www.stefanskirche.ch/veranstaltung/30202
SUMMARY:Cevi Sommerlager
PRIORITY:5
X-MICROSOFT-CDO-IMPORTANCE:1
CLASS:PUBLIC
END:VEVENT
END:VCALENDAR
