BEGIN:VCALENDAR
PRODID:-//kirchenweb.ch gmbh//veranstaltungsausgabe v2.0//DE
VERSION:2.0
METHOD:PUBLISH
BEGIN:VEVENT
DTSTART:20260919T120000Z
DTEND:20260919T150000Z
LOCATION:Stefanskirche\, Altwiesenstr. 170\, 8051 Zürich
TRANSP:OPAQUE
SEQUENCE:0
UID:30209-veranstaltung@stefanskirche.ch
DTSTAMP:20251230T184215Z
DESCRIPTION:An diesem Nachmittag sind alle herzlichen willkommen bei uns
  hinein zu schauen. Ob im Kindergarten oder Schulkinder bis und mit 6.
  Klasse sind alle eingeladen. Wir erleben ein Programm im Wald. Letztes
  Jahr mussten wir alle den 7 Zwergen helfen\, damit sie Schneewittchen
  wieder fanden. Was es echt in diesem Jahr für ein tolles Thema gibt?\n
 \nMitnehmen: etwas zum Trinken\, Schuhe und Kleider für in den Wald.
  Sonnen-oder Regenschutz\nTreffpunkt und Ende: 14-17 Uhr Schulhaus
  Stettbach\, oben an der grossen Treppe.\nDübendorfstrasse 158\, 8051
  Zürich\n\n\nKontakt: Nadine Weber\n0798222551\n\nWeitere Infos:
  https://www.stefanskirche.ch/veranstaltung/30209
SUMMARY:Cevi Werbenachmittag / Cevitag
PRIORITY:5
X-MICROSOFT-CDO-IMPORTANCE:1
CLASS:PUBLIC
END:VEVENT
END:VCALENDAR
