BEGIN:VCALENDAR
PRODID:-//kirchenweb.ch gmbh//veranstaltungsausgabe v2.0//DE
VERSION:2.0
METHOD:PUBLISH
BEGIN:VEVENT
DTSTART:20261205T160000Z
DTEND:20261205T190000Z
LOCATION:Stefanskirche\, Altwiesenstr. 170\, 8051 Zürich
TRANSP:OPAQUE
SEQUENCE:0
UID:30210-veranstaltung@stefanskirche.ch
DTSTAMP:20251230T184701Z
DESCRIPTION:Wir feiern am letzten Cevi-Programm mit den Eltern\,
  Geschwistern und Grosseltern unsere Waldweihnacht. Gemeinsam erleben wir
  eine Weihnachtsgeschichte. Manchmal traditionel\, manchmal moderne
  Geschichten. Wir treffen uns nicht wie üblich um 14Uhr\, sondern um
  17Uhr an einem anderen Ort wie sonst. Jedes Jahr kann der Treffpunkt
  wechseln. Am Ende gibt es einen warmen Znacht für alle\, sowie unser
  CeviLädeli vor Ort ist\, wo sich jedes Kind eindecken kann mit Cevi
  Merge und Kleidung. Auch finden Ehrungen statt\, von Leitern und Kindern
  die einen Ausbildungskurs absolvierten in diesem Jahr und das Geschenk
  für jedes Kind darf nicht fehlen. Danach ist es OpenEnd. \n\nKontakt:
  nadine weber\n\nWeitere Infos:
  https://www.stefanskirche.ch/veranstaltung/30210
SUMMARY:Cevi Waldweihnacht
PRIORITY:5
X-MICROSOFT-CDO-IMPORTANCE:1
CLASS:PUBLIC
END:VEVENT
END:VCALENDAR
