BEGIN:VCALENDAR
PRODID:-//kirchenweb.ch gmbh//veranstaltungsausgabe v2.0//DE
VERSION:2.0
METHOD:PUBLISH
BEGIN:VEVENT
DTSTART:20260506T120000Z
DTEND:20260506T133000Z
LOCATION:Gemeinschaftsraum der BGZ\, Luchswiesenstrasse 23\, 8051 Zürich
TRANSP:OPAQUE
SEQUENCE:0
UID:30374-veranstaltung@stefanskirche.ch
DTSTAMP:20260106T164702Z
DESCRIPTION:Mittwoch:\n\nDie Villa YoYo ist ein regelmässiger offener
  Treff für Kinder ab dem Kindergarten bis zur 3. Klasse. Das Angebot ist
  kostenlos und kann von den Kindern nach freiem Ermessen besucht werden.\n
 \nDie Kinder finden dort einen sicheren Ort mit Erwachsenen\, die sie nach
  der Schule zum Spielen empfangen und mit ihnen einen Zvieri essen. Auch
  Hausaufgaben können in der Villa YoYo erledigt werden.\n\nGratis\, ohne
  Unterscheidung von Geschlecht\, Religion oder Nationalität\, bietet
  unsere Villa YoYo den Kindern die Möglichkeit\, sich an einem sicheren
  Ort zu entfalten.\n\nDie Kinder entscheiden selbständig\, wann sie in
  die Villa YoYo kommen und wie lange sie jeweils bleiben. Es besteht keine
  Anwesenheitspflicht.\n\nDie Villa YoYo regt die Entwicklung der Kinder an
  und fördert deren Lebensfreude und Offenheit.\n\nUnsere Villa YoYo
  verfügt über professionelles Personal. Dieses fördert den Respekt für
  die anderen und setzt auf die Stärken und Kreativität der Kinder.\n
 \nFür Kinder im Quartier von freiwilligen Mitarbeitenden unterstützt!\n
 \n\n\nKontakt: Rahel Erb Tel. 078 421 44 74\n\nWeitere Infos:
  https://www.stefanskirche.ch/veranstaltung/30374
SUMMARY:Offener Kindertreff Villa YoYo Hirzenbach
PRIORITY:5
X-MICROSOFT-CDO-IMPORTANCE:1
CLASS:PUBLIC
END:VEVENT
END:VCALENDAR
