BEGIN:VCALENDAR
PRODID:-//kirchenweb.ch gmbh//veranstaltungsausgabe v2.0//DE
VERSION:2.0
METHOD:PUBLISH
BEGIN:VEVENT
DTSTART:20260508T170000Z
DTEND:20260508T193000Z
LOCATION:Stefanskirche (Jugiraum)\, Altwiesenstr. 170\, 8051 Zürich
TRANSP:OPAQUE
SEQUENCE:0
UID:30456-veranstaltung@stefanskirche.ch
DTSTAMP:20260119T174332Z
DESCRIPTION:Gemeinschaft erleben bei selbst mitgebrachtem Essen. Wir
  singen\, diskutieren\, spielen und hören Input's über Gott und die
  Welt. Vor allem haben wir viel Spass zusammen.\n
 \nhttps://www.stefanskirche.ch/puls12 findest du weitere Infos.\n
 \nKontakt: Deborah Hofmann\n\nWeitere Infos:
  https://www.stefanskirche.ch/veranstaltung/30456
SUMMARY:Puls12
PRIORITY:5
X-MICROSOFT-CDO-IMPORTANCE:1
CLASS:PUBLIC
END:VEVENT
END:VCALENDAR
